BEGIN:VCALENDAR
VERSION:2.0
PRODID:icalendar-ruby
CALSCALE:GREGORIAN
METHOD:PUBLISH
BEGIN:VEVENT
DTSTAMP:20260423T105519Z
UID:74-983403@go2hrcc.org
DTSTART:20260425T170000Z
DTEND:20260425T180000Z
CLASS:PUBLIC
CREATED:20260405T092636
DESCRIPTION:\n\nOur next 50+ luncheon on Saturday\, April 25 at 12 PM. Enjo
 y a Hawaiian lunch\, games\, music\, and devotionals. Sign up to bring a s
 ide dish or dessert at the information table in the sanctuary.\n\nIf you a
 re unable to come into the church building beforehand\, please contact the
  church office to get signed up.\n\n
LAST-MODIFIED:20260405T092636
LOCATION:
SUMMARY:50+ Luau Luncheon
URL;VALUE=URI:https://go2hrcc.org/events/50-luau-luncheon/2026-04-25
ATTACH;FILENAME=9.png;FMTTYPE=image/png:https://dq5pwpg1q8ru0.cloudfront.ne
 t/2026/04/05/14/26/13/d2475b9d-ee71-4967-8225-3cba3823067b/9.png
END:VEVENT
END:VCALENDAR
